BEGIN:VCALENDAR
VERSION:2.0
METHOD:PUBLISH
PRODID:-//Accessible Web Design//My Calendar//https://www.joedolson.com//v//EN';
BEGIN:VEVENT
UID:5-3
LOCATION:
SUMMARY:Semana de la Ciencia en Andalucia 2018
DTSTAMP:20181105
ORGANIZER;CN=Jepines:MAILTO:pinto@us.es
DTSTART:20181105
DTEND:20181119
CATEGORIES:General
URL;VALUE=URI:https://grupo.us.es/derematerialia/mc-events/semana-de-la-ciencia-en-andalucia-2018/?mc_id=5
DESCRIPTION:¿Qué es la Semana de la Ciencia en Andalucía? La Semana de la Ciencia es el mayor evento anual de divulgación de la ciencia a nivel europeo. Del 5 al 18 de noviembre de 2018, multitud de entidades relacionadas con la investigación y el conocimiento organizan una amplia gama de actividades de divulgación de la&hellip;
X-FUNAMBOL-ALLDAY: 1
X-MICROSOFT-CDO-ALLDAYEVENT: TRUE

END:VEVENT
END:VCALENDAR